BEGIN:VCALENDAR
VERSION:2.0
PRODID:-//AudioTheme 2.3.5
BEGIN:VEVENT
UID:urn:uuid:a95068ae-4ce0-4ec1-a80b-b2e1e86bffdd
URL:https://theresa.lieber.me/veranstaltungen/klangentspannung-21/
DTSTART;TZID=GMT:20250103T180000
SUMMARY:Klangentspannung
DESCRIPTION:19:00 - 20:00 Uhr
LOCATION:Drei:Raum\, Ybbsitzerstraße 2a\, Waidhofen an der Ybbs\, \, 3340
END:VEVENT
END:VCALENDAR
